BEGIN:VCALENDAR
VERSION:2.0
PRODID:-//OmniMagnetCalendar//EN
BEGIN:VEVENT
DTSTAMP:20190625T195740Z
STATUS:CONFIRMED
UID:hcchicago.clubs.harvard.edu953
DTSTART:20260221T180000Z
DTEND:20260221T200000Z
LOCATION:Go 4 Food, 212 W 23rd St, Chicago, IL, 60616, USA,
SUMMARY:2026 Lunar New Year Lunch & Trivia Contest
DESCRIPTION:In-person event
BEGIN:VALARM
TRIGGER:-PT15M
ACTION:DISPLAY
END:VALARM
TRANSP:OPAQUE
END:VEVENT
END:VCALENDAR
