BEGIN:VCALENDAR
VERSION:2.0
PRODID:-//OmniMagnetCalendar//EN
BEGIN:VEVENT
DTSTAMP:20190625T195740Z
STATUS:CONFIRMED
UID:hcchicago.clubs.harvard.edu920
DTSTART:20240618T223000Z
DTEND:20240619T020000Z
LOCATION:Mathew Biesczat Volunteer Resource Center, 6100 N. Central Ave, Chicago, IL , 60646, USA,
SUMMARY:HCC Annual Meeting 2024
DESCRIPTION:IN PERSON MEETING
BEGIN:VALARM
TRIGGER:-PT15M
ACTION:DISPLAY
END:VALARM
TRANSP:OPAQUE
END:VEVENT
END:VCALENDAR
