BEGIN:VCALENDAR
VERSION:2.0
PRODID:-//OmniMagnetCalendar//EN
BEGIN:VEVENT
DTSTAMP:20190625T195740Z
STATUS:CONFIRMED
UID:hcchicago.clubs.harvard.edu911
DTSTART:20240119T233000Z
DTEND:20240120T040000Z
LOCATION:United Center, 1901 W Jackson Blvd, Chicago, IL, 60612, US,
SUMMARY:Chicago Blackhawks – New York Islanders Game
DESCRIPTION:Location: Hockey Game, United Center, 1901 W Madison StChicago, IL 60612
BEGIN:VALARM
TRIGGER:-PT15M
ACTION:DISPLAY
END:VALARM
TRANSP:OPAQUE
END:VEVENT
END:VCALENDAR
