BEGIN:VCALENDAR
VERSION:2.0
PRODID:-//OmniMagnetCalendar//EN
BEGIN:VEVENT
DTSTAMP:20190625T195740Z
STATUS:CONFIRMED
UID:hcchicago.clubs.harvard.edu896
DTSTART:20230509T210000Z
DTEND:20230509T213000Z
LOCATION:United Airlines - Willis Tower, Willis Tower, 233 S. Wacker Dr, Chicago, IL, 60606, USA,
SUMMARY:United Airlines NOC Tour 4:00pm - ERROR
DESCRIPTION: Guild Row, Avondale 
BEGIN:VALARM
TRIGGER:-PT15M
ACTION:DISPLAY
END:VALARM
TRANSP:OPAQUE
END:VEVENT
END:VCALENDAR
