BEGIN:VCALENDAR
VERSION:2.0
PRODID:-//OmniMagnetCalendar//EN
BEGIN:VEVENT
DTSTAMP:20190625T195740Z
STATUS:CONFIRMED
UID:hcchicago.clubs.harvard.edu888
DTSTART:20221017T220000Z
DTEND:20221017T230000Z
LOCATION:The Glen Club, 2901 West Lake Avenue, Glenview, IL , 60026,
SUMMARY:Steve Skinner, CEO KemperSports
DESCRIPTION:IN PERSON EVENT
BEGIN:VALARM
TRIGGER:-PT15M
ACTION:DISPLAY
END:VALARM
TRANSP:OPAQUE
END:VEVENT
END:VCALENDAR
