BEGIN:VCALENDAR
VERSION:2.0
PRODID:-//OmniMagnetCalendar//EN
BEGIN:VEVENT
DTSTAMP:20190625T195740Z
STATUS:CONFIRMED
UID:hcchicago.clubs.harvard.edu886
DTSTART:20220921T220000Z
DTEND:20220922T010000Z
LOCATION:Guaranteed Rate Field , 333 W. 35th Street , Chicago, IL,  60616, USA,
SUMMARY:Chicago White Sox v Cleveland Guardians Game
DESCRIPTION:with a Conversation with White Sox Announcers Steve Stone and Jason Benetti
BEGIN:VALARM
TRIGGER:-PT15M
ACTION:DISPLAY
END:VALARM
TRANSP:OPAQUE
END:VEVENT
END:VCALENDAR
