BEGIN:VCALENDAR
VERSION:2.0
PRODID:-//OmniMagnetCalendar//EN
BEGIN:VEVENT
DTSTAMP:20190625T195740Z
STATUS:CONFIRMED
UID:hcchicago.clubs.harvard.edu869
DTSTART:20220316T170000Z
DTEND:20220316T183000Z
LOCATION:VIRTUAL,
SUMMARY:HCC Board of Directors - March 2022 Board Meeting
DESCRIPTION:VIRTUAL MEETING
BEGIN:VALARM
TRIGGER:-PT15M
ACTION:DISPLAY
END:VALARM
TRANSP:OPAQUE
END:VEVENT
END:VCALENDAR
