BEGIN:VCALENDAR
VERSION:2.0
PRODID:-//OmniMagnetCalendar//EN
BEGIN:VEVENT
DTSTAMP:20190625T195740Z
STATUS:CONFIRMED
UID:hcchicago.clubs.harvard.edu866
DTSTART:20220223T000000Z
DTEND:20220223T010000Z
LOCATION:VIRTUAL,
SUMMARY:Celebrating Black History Month with Desirée Rogers, MBA’85, KSG’02
DESCRIPTION:Virtual Event
BEGIN:VALARM
TRIGGER:-PT15M
ACTION:DISPLAY
END:VALARM
TRANSP:OPAQUE
END:VEVENT
END:VCALENDAR
