BEGIN:VCALENDAR
VERSION:2.0
PRODID:-//OmniMagnetCalendar//EN
BEGIN:VEVENT
DTSTAMP:20190625T195740Z
STATUS:CONFIRMED
UID:hcchicago.clubs.harvard.edu799
DTSTART:20201124T230000Z
DTEND:20201125T000000Z
LOCATION:Webinar,
SUMMARY:Lifting People Up: At Work And At Home
DESCRIPTION:HBSCC Invites HCC
BEGIN:VALARM
TRIGGER:-PT15M
ACTION:DISPLAY
END:VALARM
TRANSP:OPAQUE
END:VEVENT
END:VCALENDAR
