BEGIN:VCALENDAR
VERSION:2.0
PRODID:-//OmniMagnetCalendar//EN
BEGIN:VEVENT
DTSTAMP:20190625T195740Z
STATUS:CONFIRMED
UID:hcchicago.clubs.harvard.edu795
DTSTART:20201014T230000Z
DTEND:20201015T020000Z
LOCATION:Virtual, 54 W. Chicago Ave, Chicago , IL,
SUMMARY:Welcome to Your City: Chicago
DESCRIPTION:A Virtual Chicago Welcome to the Class of 2020!
BEGIN:VALARM
TRIGGER:-PT15M
ACTION:DISPLAY
END:VALARM
TRANSP:OPAQUE
END:VEVENT
END:VCALENDAR
