BEGIN:VCALENDAR
VERSION:2.0
PRODID:-//OmniMagnetCalendar//EN
BEGIN:VEVENT
DTSTAMP:20190625T195740Z
STATUS:CONFIRMED
UID:hcchicago.clubs.harvard.edu778
DTSTART:20200608T210000Z
DTEND:20200608T220000Z
LOCATION:Webinar,
SUMMARY:HARVARD CONNECTION: What Harvard Taught Me But My Kids Made Me Learn
DESCRIPTION:VIRTUAL MEETING with Bea Wray MBA'99
BEGIN:VALARM
TRIGGER:-PT15M
ACTION:DISPLAY
END:VALARM
TRANSP:OPAQUE
END:VEVENT
END:VCALENDAR
