BEGIN:VCALENDAR
VERSION:2.0
PRODID:-//OmniMagnetCalendar//EN
BEGIN:VEVENT
DTSTAMP:20190625T195740Z
STATUS:CONFIRMED
UID:hcchicago.clubs.harvard.edu777
DTSTART:20200610T000000Z
DTEND:20200610T010000Z
LOCATION:Webinar,
SUMMARY:Harvard Across America Series
DESCRIPTION:Inequality in the U.S.
BEGIN:VALARM
TRIGGER:-PT15M
ACTION:DISPLAY
END:VALARM
TRANSP:OPAQUE
END:VEVENT
END:VCALENDAR
