BEGIN:VCALENDAR
VERSION:2.0
PRODID:-//OmniMagnetCalendar//EN
BEGIN:VEVENT
DTSTAMP:20190625T195740Z
STATUS:CONFIRMED
UID:hcchicago.clubs.harvard.edu770
DTSTART:20200708T223000Z
DTEND:20200708T233000Z
LOCATION:Webinar,
SUMMARY:HARVARD CONNECTION - Jonathan Byrnes, DBA80 - Part 3 Coronavirus Series
DESCRIPTION: How to Manage Your Supply Chain Shock Waves 
BEGIN:VALARM
TRIGGER:-PT15M
ACTION:DISPLAY
END:VALARM
TRANSP:OPAQUE
END:VEVENT
END:VCALENDAR
